BEGIN:VCALENDAR
VERSION:2.0
PRODID:-//Lutheran Education - ECPv6.15.20//NONSGML v1.0//EN
CALSCALE:GREGORIAN
METHOD:PUBLISH
X-ORIGINAL-URL:https://lesnw.edu.au
X-WR-CALDESC:Events for Lutheran Education
REFRESH-INTERVAL;VALUE=DURATION:PT1H
X-Robots-Tag:noindex
X-PUBLISHED-TTL:PT1H
BEGIN:VTIMEZONE
TZID:Australia/Adelaide
BEGIN:STANDARD
TZOFFSETFROM:+1030
TZOFFSETTO:+0930
TZNAME:ACST
DTSTART:20250405T163000
END:STANDARD
BEGIN:DAYLIGHT
TZOFFSETFROM:+0930
TZOFFSETTO:+1030
TZNAME:ACDT
DTSTART:20251004T163000
END:DAYLIGHT
BEGIN:STANDARD
TZOFFSETFROM:+1030
TZOFFSETTO:+0930
TZNAME:ACST
DTSTART:20260404T163000
END:STANDARD
BEGIN:DAYLIGHT
TZOFFSETFROM:+0930
TZOFFSETTO:+1030
TZNAME:ACDT
DTSTART:20261003T163000
END:DAYLIGHT
BEGIN:STANDARD
TZOFFSETFROM:+1030
TZOFFSETTO:+0930
TZNAME:ACST
DTSTART:20270403T163000
END:STANDARD
BEGIN:DAYLIGHT
TZOFFSETFROM:+0930
TZOFFSETTO:+1030
TZNAME:ACDT
DTSTART:20271002T163000
END:DAYLIGHT
END:VTIMEZONE
BEGIN:VEVENT
DTSTART;TZID=Australia/Adelaide:20260811T170000
DTEND;TZID=Australia/Adelaide:20260814T133000
DTSTAMP:20260421T174041
CREATED:20250921T082504Z
LAST-MODIFIED:20260227T021238Z
UID:10003219-1786467600-1786714200@lesnw.edu.au
SUMMARY:School Chaplain & Pastor Retreat
DESCRIPTION:Location: Sevenhill Jesuit Retreat Centre \nRetreat Flyer (PDF) \nThe retreat begins with a one-day silent retreat\, which is an optional pre-event. It will be a time of silence for personal spiritual reflection. This is followed by the collegial retreat\, the main event. Participants are asked to bring along and share a resource they have discovered and/or used for the spiritual development of staff. \nRegistrations close Monday 27 July at 5:00pm. Learning communities will be invoiced following close of registrations. \n  \n\n	Notice: JavaScript is required for this content.
URL:https://lesnw.edu.au/event/2026-school-chaplain-pastor-retreat/
LOCATION:Sevenhill Jesuit Retreat Centre\, Sevenhill Jesuit Retreat Centre\, 111B College Road\, Sevenhill\, 5453\, Australia
CATEGORIES:Theological, Pastoral and Cultural Support
ORGANIZER;CN="Lutheran Education SA%2C NT & WA":MAILTO:office@lesnw.edu.au
END:VEVENT
END:VCALENDAR