BEGIN:VCALENDAR
VERSION:2.0
PRODID:-//Lutheran Education - ECPv6.15.20//NONSGML v1.0//EN
CALSCALE:GREGORIAN
METHOD:PUBLISH
X-WR-CALNAME:Lutheran Education
X-ORIGINAL-URL:https://lesnw.edu.au
X-WR-CALDESC:Events for Lutheran Education
REFRESH-INTERVAL;VALUE=DURATION:PT1H
X-Robots-Tag:noindex
X-PUBLISHED-TTL:PT1H
BEGIN:VTIMEZONE
TZID:Australia/Adelaide
BEGIN:STANDARD
TZOFFSETFROM:+1030
TZOFFSETTO:+0930
TZNAME:ACST
DTSTART:20240406T163000
END:STANDARD
BEGIN:DAYLIGHT
TZOFFSETFROM:+0930
TZOFFSETTO:+1030
TZNAME:ACDT
DTSTART:20241005T163000
END:DAYLIGHT
BEGIN:STANDARD
TZOFFSETFROM:+1030
TZOFFSETTO:+0930
TZNAME:ACST
DTSTART:20250405T163000
END:STANDARD
BEGIN:DAYLIGHT
TZOFFSETFROM:+0930
TZOFFSETTO:+1030
TZNAME:ACDT
DTSTART:20251004T163000
END:DAYLIGHT
BEGIN:STANDARD
TZOFFSETFROM:+1030
TZOFFSETTO:+0930
TZNAME:ACST
DTSTART:20260404T163000
END:STANDARD
BEGIN:DAYLIGHT
TZOFFSETFROM:+0930
TZOFFSETTO:+1030
TZNAME:ACDT
DTSTART:20261003T163000
END:DAYLIGHT
END:VTIMEZONE
BEGIN:VEVENT
DTSTART;TZID=Australia/Adelaide:20250527T093000
DTEND;TZID=Australia/Adelaide:20250527T093000
DTSTAMP:20260425T060720
CREATED:20250506T231432Z
LAST-MODIFIED:20250506T231947Z
UID:10003182-1748338200-1748338200@lesnw.edu.au
SUMMARY:National Reconciliation Week Breakfast Reflection
DESCRIPTION:To those attending this year’s National Reconciliation Week Breakfast\, the LESNW Regional Office warmly invites you to join our staff at Pirltawardli (War Memorial Drive\, North Adelaide) at 9:30am\, following the conclusion of the breakfast. \nTogether\, we will share the story of the Pirltawardli site and provide space for reflection and contemplation. \nWe would be pleased to have you join us as we acknowledge and reflect on the strong Lutheran history connected to this significant Indigenous site.
URL:https://lesnw.edu.au/event/2025-nrw-breakfast-reflection/
LOCATION:Pirltawardli
ATTACH;FMTTYPE=image/png:https://lesnw.edu.au/wp-content/uploads/2025/05/RAP-Artwork-large-3.png
ORGANIZER;CN="Lutheran Education SA%2C NT & WA":MAILTO:office@lesnw.edu.au
END:VEVENT
END:VCALENDAR