BEGIN:VCALENDAR
VERSION:2.0
PRODID:-//Lutheran Education - ECPv6.15.20//NONSGML v1.0//EN
CALSCALE:GREGORIAN
METHOD:PUBLISH
X-ORIGINAL-URL:https://lesnw.edu.au
X-WR-CALDESC:Events for Lutheran Education
REFRESH-INTERVAL;VALUE=DURATION:PT1H
X-Robots-Tag:noindex
X-PUBLISHED-TTL:PT1H
BEGIN:VTIMEZONE
TZID:Australia/Adelaide
BEGIN:STANDARD
TZOFFSETFROM:+1030
TZOFFSETTO:+0930
TZNAME:ACST
DTSTART:20210403T163000
END:STANDARD
BEGIN:DAYLIGHT
TZOFFSETFROM:+0930
TZOFFSETTO:+1030
TZNAME:ACDT
DTSTART:20211002T163000
END:DAYLIGHT
BEGIN:STANDARD
TZOFFSETFROM:+1030
TZOFFSETTO:+0930
TZNAME:ACST
DTSTART:20220402T163000
END:STANDARD
BEGIN:DAYLIGHT
TZOFFSETFROM:+0930
TZOFFSETTO:+1030
TZNAME:ACDT
DTSTART:20221001T163000
END:DAYLIGHT
BEGIN:STANDARD
TZOFFSETFROM:+1030
TZOFFSETTO:+0930
TZNAME:ACST
DTSTART:20230401T163000
END:STANDARD
BEGIN:DAYLIGHT
TZOFFSETFROM:+0930
TZOFFSETTO:+1030
TZNAME:ACDT
DTSTART:20230930T163000
END:DAYLIGHT
BEGIN:STANDARD
TZOFFSETFROM:+1030
TZOFFSETTO:+0930
TZNAME:ACST
DTSTART:20240406T163000
END:STANDARD
BEGIN:DAYLIGHT
TZOFFSETFROM:+0930
TZOFFSETTO:+1030
TZNAME:ACDT
DTSTART:20241005T163000
END:DAYLIGHT
END:VTIMEZONE
BEGIN:VEVENT
DTSTART;TZID=Australia/Adelaide:20230306T150000
DTEND;TZID=Australia/Adelaide:20230306T180000
DTSTAMP:20260422T200047
CREATED:20230125T033019Z
LAST-MODIFIED:20230125T033019Z
UID:10002553-1678114800-1678125600@lesnw.edu.au
SUMMARY:Connected Schools Hub Meeting
DESCRIPTION:
URL:https://lesnw.edu.au/event/connected-schools-hub-meeting-2/
LOCATION:Good Shepherd Para Vista\, Good Shepherd Para Vista\, 388 Montague Road\, Para Vista\, South Australia\, 5093
CATEGORIES:Connected Schools
END:VEVENT
BEGIN:VEVENT
DTSTART;TZID=Australia/Adelaide:20230206T150000
DTEND;TZID=Australia/Adelaide:20230206T180000
DTSTAMP:20260422T200047
CREATED:20230125T032935Z
LAST-MODIFIED:20230125T032935Z
UID:10002552-1675695600-1675706400@lesnw.edu.au
SUMMARY:Connected Schools Hub Meeting
DESCRIPTION:
URL:https://lesnw.edu.au/event/connected-schools-hub-meeting/
LOCATION:Good Shepherd Para Vista\, Good Shepherd Para Vista\, 388 Montague Road\, Para Vista\, South Australia\, 5093
CATEGORIES:Connected Schools
END:VEVENT
BEGIN:VEVENT
DTSTART;TZID=Australia/Adelaide:20221104T090000
DTEND;TZID=Australia/Adelaide:20221104T150000
DTSTAMP:20260422T200047
CREATED:20220329T232730Z
LAST-MODIFIED:20221101T221635Z
UID:10002527-1667552400-1667574000@lesnw.edu.au
SUMMARY:LILLC - Early Years
DESCRIPTION:LILLC Term 4 invitation \nThis term’s Story from the Field will be led by Jacqui Gliddon from Curiosity ELC – Good Shepherd Para Vista – we will spend time in the ELC. \n\n“What is it about rainbow’s that catches the imagination of mankind?”\nMiddle Session – Furthering our discussion on Community Engagement and the place of active listening in sensing the field.\nOpportunities to connect and work with other Early Years Leaders.\nAfternoon session – Planning for next year\, common threads.\n\nRegistrations close Friday 28th of October
URL:https://lesnw.edu.au/event/lillc-early-years-2/
LOCATION:Good Shepherd Para Vista\, Good Shepherd Para Vista\, 388 Montague Road\, Para Vista\, South Australia\, 5093
ORGANIZER;CN="Lutheran Education SA%2C NT & WA":MAILTO:office@lesnw.edu.au
END:VEVENT
END:VCALENDAR