BEGIN:VCALENDAR
VERSION:2.0
PRODID:-//Lutheran Education - ECPv6.15.20//NONSGML v1.0//EN
CALSCALE:GREGORIAN
METHOD:PUBLISH
X-WR-CALNAME:Lutheran Education
X-ORIGINAL-URL:https://lesnw.edu.au
X-WR-CALDESC:Events for Lutheran Education
REFRESH-INTERVAL;VALUE=DURATION:PT1H
X-Robots-Tag:noindex
X-PUBLISHED-TTL:PT1H
BEGIN:VTIMEZONE
TZID:Australia/Adelaide
BEGIN:STANDARD
TZOFFSETFROM:+1030
TZOFFSETTO:+0930
TZNAME:ACST
DTSTART:20220402T163000
END:STANDARD
BEGIN:DAYLIGHT
TZOFFSETFROM:+0930
TZOFFSETTO:+1030
TZNAME:ACDT
DTSTART:20221001T163000
END:DAYLIGHT
BEGIN:STANDARD
TZOFFSETFROM:+1030
TZOFFSETTO:+0930
TZNAME:ACST
DTSTART:20230401T163000
END:STANDARD
BEGIN:DAYLIGHT
TZOFFSETFROM:+0930
TZOFFSETTO:+1030
TZNAME:ACDT
DTSTART:20230930T163000
END:DAYLIGHT
BEGIN:STANDARD
TZOFFSETFROM:+1030
TZOFFSETTO:+0930
TZNAME:ACST
DTSTART:20240406T163000
END:STANDARD
BEGIN:DAYLIGHT
TZOFFSETFROM:+0930
TZOFFSETTO:+1030
TZNAME:ACDT
DTSTART:20241005T163000
END:DAYLIGHT
END:VTIMEZONE
BEGIN:VEVENT
DTSTART;TZID=Australia/Adelaide:20230602T100000
DTEND;TZID=Australia/Adelaide:20230602T133000
DTSTAMP:20260425T054825
CREATED:20230504T054825Z
LAST-MODIFIED:20230504T054825Z
UID:10003070-1685700000-1685712600@lesnw.edu.au
SUMMARY:Secondary School Chaplains & Pastors Meeting
DESCRIPTION:Please sign in at reception and be seated by 10:15am in the chapel. Lunch will be provided. \nRegistrations close Monday the 29th of May at 12pm. For more information\, please contact Stuart Traeger (stuart.traeger@lesnw.edu.au).
URL:https://lesnw.edu.au/event/secondary-school-chaplains-pastors-meeting/
LOCATION:Faith Lutheran College\, Faith Lutheran College\, 130 Magnolia Road\, Tanunda\, South Australia\, 5352
CATEGORIES:Pastors/Chaplains
ORGANIZER;CN="Lutheran Education SA%2C NT & WA":MAILTO:office@lesnw.edu.au
END:VEVENT
BEGIN:VEVENT
DTSTART;TZID=Australia/Adelaide:20230602T090000
DTEND;TZID=Australia/Adelaide:20230602T153000
DTSTAMP:20260425T054825
CREATED:20221117T232120Z
LAST-MODIFIED:20221117T235203Z
UID:10002644-1685696400-1685719800@lesnw.edu.au
SUMMARY:Equip 1B Day 3
DESCRIPTION:Equip 1B dates\nDay 1 – May 22\nDay 2 – June 1\nDay 3 – June 2 \nPlease keep in mind that the three days of Equip must be completed sequentially\, i.e.\, you must complete Day 1 before Day 2 and so on.
URL:https://lesnw.edu.au/event/equip-1b-day-3-2023/
LOCATION:LESNW Regional Office\, LESNW Regional Office\, 137 Archer Street\, North Adelaide\, 5006
CATEGORIES:Equip
ORGANIZER;CN="Lutheran Education SA%2C NT & WA":MAILTO:office@lesnw.edu.au
END:VEVENT
BEGIN:VEVENT
DTSTART;TZID=Australia/Adelaide:20230601T100000
DTEND;TZID=Australia/Adelaide:20230601T140000
DTSTAMP:20260425T054825
CREATED:20230117T031913Z
LAST-MODIFIED:20230117T034514Z
UID:10002925-1685613600-1685628000@lesnw.edu.au
SUMMARY:LEAF Hub Group
DESCRIPTION:Venue TBC
URL:https://lesnw.edu.au/event/leaf-hub-group-2/
CATEGORIES:LEAF
END:VEVENT
BEGIN:VEVENT
DTSTART;TZID=Australia/Adelaide:20230601T090000
DTEND;TZID=Australia/Adelaide:20230601T153000
DTSTAMP:20260425T054825
CREATED:20221117T232024Z
LAST-MODIFIED:20221117T235145Z
UID:10002643-1685610000-1685633400@lesnw.edu.au
SUMMARY:Equip 1B Day 2
DESCRIPTION:Equip 1B dates\nDay 1 – May 22\nDay 2 – June 1\nDay 3 – June 2 \nPlease keep in mind that the three days of Equip must be completed sequentially\, i.e.\, you must complete Day 1 before Day 2 and so on.
URL:https://lesnw.edu.au/event/equip-1b-day-2-2023/
LOCATION:LESNW Regional Office\, LESNW Regional Office\, 137 Archer Street\, North Adelaide\, 5006
CATEGORIES:Equip
ORGANIZER;CN="Lutheran Education SA%2C NT & WA":MAILTO:office@lesnw.edu.au
END:VEVENT
BEGIN:VEVENT
DTSTART;TZID=Australia/Adelaide:20230531T100000
DTEND;TZID=Australia/Adelaide:20230531T143000
DTSTAMP:20260425T054825
CREATED:20230515T064941Z
LAST-MODIFIED:20230515T064941Z
UID:10002937-1685527200-1685543400@lesnw.edu.au
SUMMARY:School Counsellors Network Group Meeting
DESCRIPTION:The school counselors’ network is an opportunity to share best practices and be supported by each other.
URL:https://lesnw.edu.au/event/school-counsellors-network-group-meeting/
LOCATION:LESNW Meeting Room 1\, LESNW Meeting Room 1\, 137 Archer Street\, North Adelaide\, 5006
CATEGORIES:Pastors/Chaplains
ORGANIZER;CN="Lutheran Education SA%2C NT & WA":MAILTO:office@lesnw.edu.au
END:VEVENT
BEGIN:VEVENT
DTSTART;TZID=Australia/Adelaide:20230531T091500
DTEND;TZID=Australia/Adelaide:20230531T150000
DTSTAMP:20260425T054825
CREATED:20230206T005133Z
LAST-MODIFIED:20230206T005133Z
UID:10002933-1685524500-1685545200@lesnw.edu.au
SUMMARY:BARLE Hub Group Meeting
DESCRIPTION:
URL:https://lesnw.edu.au/event/barle-hub-group-meeting-2/
LOCATION:Faith College – Junior Campus\, Faith College - Junior Campus\, 16 Maria St\, Tanunda\, South Australia\, 5352
CATEGORIES:BARLE
END:VEVENT
BEGIN:VEVENT
DTSTART;TZID=Australia/Adelaide:20230529T083000
DTEND;TZID=Australia/Adelaide:20230529T163000
DTSTAMP:20260425T054825
CREATED:20221207T035920Z
LAST-MODIFIED:20230201T040421Z
UID:10003033-1685349000-1685377800@lesnw.edu.au
SUMMARY:Leadership Lab 1.5 - Day 2
DESCRIPTION:Leadership Lab dates (only available for those who have completed Lab 1.0)\nDay 1 – March 1\nDay 2 – May 29\nDay 3 – August 17 \nThe purpose of theses sessions are to: \n\nOpportunities to re-connect\, innovate\, collaborate\, develop new systems thinking capabilities connected to Growing deep\nPrototyping and project development\nDevelop a deeper understanding of compassionate systems tools and strategies and ways of using them with staff and students\n\nCo-lead by Andrew Jericho and Mignon Weckert
URL:https://lesnw.edu.au/event/leadership-lab-1-5-day-2-2023/
LOCATION:LESNW Meeting Room 1\, LESNW Meeting Room 1\, 137 Archer Street\, North Adelaide\, 5006
CATEGORIES:Learning Lab
ORGANIZER;CN="Lutheran Education SA%2C NT & WA":MAILTO:office@lesnw.edu.au
END:VEVENT
BEGIN:VEVENT
DTSTART;VALUE=DATE:20230529
DTEND;VALUE=DATE:20230601
DTSTAMP:20260425T054825
CREATED:20221206T053315Z
LAST-MODIFIED:20221206T053726Z
UID:10002652-1685318400-1685577599@lesnw.edu.au
SUMMARY:Contemporary Learning Tour 2023 - Brisbane
DESCRIPTION:To register for an upcoming tour\, please click here and follow the link. \nIf you have any questions about tours that go beyond the information that is currently available on the Contemporary Learning Tours website\, please contact Andrew Bradtke. \nLESNW Education Leader\nandrew.bradtke@lesnw.edu.au | 0437 818 288
URL:https://lesnw.edu.au/event/contemporary-learning-tour-2023-brisbane/
LOCATION:Brisbane\, Brisbane\, Queensland\, 4000
CATEGORIES:Learning Tours
END:VEVENT
BEGIN:VEVENT
DTSTART;TZID=Australia/Adelaide:20230525T090000
DTEND;TZID=Australia/Adelaide:20230525T153000
DTSTAMP:20260425T054825
CREATED:20221117T233643Z
LAST-MODIFIED:20221206T051545Z
UID:10002650-1685005200-1685028600@lesnw.edu.au
SUMMARY:Equip 2A Day 3
DESCRIPTION:Equip 2A dates\nDay 1 – May 11\nDay 2 – May 12\nDay 3 – May 25 \nPlease keep in mind that the three days of Equip must be completed sequentially\, i.e.\, you must complete Day 1 before Day 2 and so on.
URL:https://lesnw.edu.au/event/equip-2a-day-3-2023/
LOCATION:LESNW Regional Office\, LESNW Regional Office\, 137 Archer Street\, North Adelaide\, 5006
CATEGORIES:Equip
ORGANIZER;CN="Lutheran Education SA%2C NT & WA":MAILTO:office@lesnw.edu.au
END:VEVENT
BEGIN:VEVENT
DTSTART;TZID=Australia/Adelaide:20230524T090000
DTEND;TZID=Australia/Adelaide:20230524T150000
DTSTAMP:20260425T054825
CREATED:20230428T004225Z
LAST-MODIFIED:20230428T010636Z
UID:10003062-1684918800-1684940400@lesnw.edu.au
SUMMARY:Connect Facilitator Training
DESCRIPTION:This training aims to assist Connect facilitators to better understand the purpose and delivery of Connect to their staff\, as well as: \n\nHear how other communities are running Connect and share best practice\nRevisit the ‘why’ and ‘how’ of Connect\nDiscuss ePortfolio exemplars and discuss requirements with Anne Dohnt (LEA)\nFamiliarise yourself with the ‘nuts and bolts’ of Connect\nSee the updated resources.\n\nFor any questions regarding Connect\, please contact Stuart Traeger at stuart.traeger@lesnw.edu.au.
URL:https://lesnw.edu.au/event/connect-facilitator-training-2023-05-24/
LOCATION:LESNW Meeting Room 1\, LESNW Meeting Room 1\, 137 Archer Street\, North Adelaide\, 5006
CATEGORIES:Connect
ORGANIZER;CN="Lutheran Education SA%2C NT & WA":MAILTO:office@lesnw.edu.au
END:VEVENT
BEGIN:VEVENT
DTSTART;TZID=Australia/Adelaide:20230524T090000
DTEND;TZID=Australia/Adelaide:20230524T150000
DTSTAMP:20260425T054825
CREATED:20230201T050953Z
LAST-MODIFIED:20230201T223643Z
UID:10002676-1684918800-1684940400@lesnw.edu.au
SUMMARY:Compassionate Systems Studio
DESCRIPTION:The Compassionate Systems Collective is a network that supports collaboration\, learning and development for schools and other institutions with a shared interest in Compassionate Systems. The network is coordinated by a team of leaders drawn from member organisations. Support and guidance for the management and development of the network is provided by an advisory committee and the Centre for Systems Awareness. LESNW is one of the founding members. \nMembership of Compassionate Systems Collective information can be found here. To register for this event\, please do so through the Woodleigh Institute website here.
URL:https://lesnw.edu.au/event/compassionate-systems-studio-2/
LOCATION:LESNW Regional Office\, LESNW Regional Office\, 137 Archer Street\, North Adelaide\, 5006
CATEGORIES:Compassionate Systems
ORGANIZER;CN="Lutheran Education SA%2C NT & WA":MAILTO:office@lesnw.edu.au
END:VEVENT
BEGIN:VEVENT
DTSTART;TZID=Australia/Adelaide:20230523T090000
DTEND;TZID=Australia/Adelaide:20230523T150000
DTSTAMP:20260425T054825
CREATED:20230201T042437Z
LAST-MODIFIED:20230201T223723Z
UID:10002674-1684832400-1684854000@lesnw.edu.au
SUMMARY:Compassionate Systems Studio
DESCRIPTION:The Compassionate Systems Collective is a network that supports collaboration\, learning and development for schools and other institutions with a shared interest in Compassionate Systems. The network is coordinated by a team of leaders drawn from member organisations. Support and guidance for the management and development of the network is provided by an advisory committee and the Centre for Systems Awareness. LESNW is one of the founding members. \nMembership of Compassionate Systems Collective information can be found here. To register for this event\, please do so through the Woodleigh Institute website here.
URL:https://lesnw.edu.au/event/compassionate-systems-studio/
LOCATION:LESNW Regional Office\, LESNW Regional Office\, 137 Archer Street\, North Adelaide\, 5006
CATEGORIES:Compassionate Systems
ORGANIZER;CN="Lutheran Education SA%2C NT & WA":MAILTO:office@lesnw.edu.au
END:VEVENT
BEGIN:VEVENT
DTSTART;TZID=Australia/Adelaide:20230522T090000
DTEND;TZID=Australia/Adelaide:20230522T153000
DTSTAMP:20260425T054825
CREATED:20221117T231433Z
LAST-MODIFIED:20221117T235134Z
UID:10002642-1684746000-1684769400@lesnw.edu.au
SUMMARY:Equip 1B Day 1
DESCRIPTION:Equip 1B dates\nDay 1 – May 22\nDay 2 – June 1\nDay 3 – June 2 \nPlease keep in mind that the three days of Equip must be completed sequentially\, i.e.\, you must complete Day 1 before Day 2 and so on.
URL:https://lesnw.edu.au/event/equip-1b-day-1-2023/
LOCATION:LESNW Regional Office\, LESNW Regional Office\, 137 Archer Street\, North Adelaide\, 5006
CATEGORIES:Equip
ORGANIZER;CN="Lutheran Education SA%2C NT & WA":MAILTO:office@lesnw.edu.au
END:VEVENT
BEGIN:VEVENT
DTSTART;TZID=Australia/Adelaide:20230519T090000
DTEND;TZID=Australia/Adelaide:20230519T150000
DTSTAMP:20260425T054825
CREATED:20221207T030419Z
LAST-MODIFIED:20230331T052902Z
UID:10003028-1684486800-1684508400@lesnw.edu.au
SUMMARY:Early Career Teacher's Day
DESCRIPTION:LILLC Early Career Teacher’s Day Flyer \nLILLC are also responsible for coordinating the Early Career Teachers Day.  This is a wonderful opportunity for teachers new to Lutheran Education to understand more about what it means to be part of our system. This event is for all teachers in their first three years of teaching in a Lutheran school and will explore: \n\nVocation\, community building through the lens of Growing deep\nHow the Vocational Practices relate to you\, your role and classroom practice in working within a Lutheran Learning Community\nWhat makes Lutheran Education ‘different’?\n\nFor more information\, please contact Andrew Bradtke at andrew.bradtke@lesnw.edu.au.
URL:https://lesnw.edu.au/event/early-career-teachers-day-2023/
LOCATION:LESNW Meeting Room 1\, LESNW Meeting Room 1\, 137 Archer Street\, North Adelaide\, 5006
ORGANIZER;CN="Lutheran Education SA%2C NT & WA":MAILTO:office@lesnw.edu.au
END:VEVENT
BEGIN:VEVENT
DTSTART;TZID=Australia/Adelaide:20230519T083000
DTEND;TZID=Australia/Adelaide:20230519T153000
DTSTAMP:20260425T054825
CREATED:20230202T011605Z
LAST-MODIFIED:20230202T011658Z
UID:10002678-1684485000-1684510200@lesnw.edu.au
SUMMARY:NT Leadership Lab - Day 2
DESCRIPTION:NT Leadership Lab Dates\nDay 1 – March 17\nDay 2 – May 19\nDay 3 – August 3 \nThe purpose of these sessions are to: \n\nBuild leadership capabilities and practices grounded in Growing deep\nDevelop personal mastery\, team learning and systems thinking grounded in the Compassionate Systems Framework to support innovation and improvement\nDevelop a community of practice and trust\n\nThese labs are targeted at school leaders in the Northern Territory within LESNW learning communities. Participants are required to attend all sessions.
URL:https://lesnw.edu.au/event/nt-leadership-lab-day-2/
LOCATION:Living Waters Lutheran School\, Living Waters Lutheran School\, Corner Kramer Street and Albrecht Drive\, Alice Springs\, Northern Territory\, 0870
CATEGORIES:Learning Lab
ORGANIZER;CN="Lutheran Education SA%2C NT & WA":MAILTO:office@lesnw.edu.au
END:VEVENT
BEGIN:VEVENT
DTSTART;TZID=Australia/Adelaide:20230518T090000
DTEND;TZID=Australia/Adelaide:20230518T160000
DTSTAMP:20260425T054825
CREATED:20230201T021322Z
LAST-MODIFIED:20230428T023216Z
UID:10003050-1684400400-1684425600@lesnw.edu.au
SUMMARY:Early Years and Primary CS Leaders and Teaching & Learning Leaders Workshop
DESCRIPTION:May 2023 Workshop Flyer \nThese days will guide and extend Teaching and Learning Leaders and CS Leaders conceptually with the CSCF to bridge learners from the EYLF to the SACE (both of which are using a conceptual approach). The pedagogical focus will include inquiry-based learning\, planning conceptually\, and explore assessments that set students up for success with SACE Spiritualities\, Religion and Meaning. We ask that you mark these dates in your calendar and plan to send at least 2 representatives from your learning community.  \nIf you have any questions\, please contact Sue Kupke or Andrew Bradtke.\nsue.kupke@lesnw.edu.au | andrew.bradtke@lesnw.edu.au \nPlease register here.
URL:https://lesnw.edu.au/event/early-years-and-primary-cs-leaders-and-teaching-learning-leaders-workshop-2/
LOCATION:Immanuel Primary School\, Immanuel Primary School\, Saratoga Drive\, Novar Gardens\, South Australia\, 5040
CATEGORIES:CS Leaders
ORGANIZER;CN="Lutheran Education SA%2C NT & WA":MAILTO:office@lesnw.edu.au
END:VEVENT
BEGIN:VEVENT
DTSTART;TZID=Australia/Adelaide:20230518T083000
DTEND;TZID=Australia/Adelaide:20230518T123000
DTSTAMP:20260425T054825
CREATED:20221213T021358Z
LAST-MODIFIED:20221213T021435Z
UID:10003039-1684398600-1684413000@lesnw.edu.au
SUMMARY:FRAC Meeting
DESCRIPTION:
URL:https://lesnw.edu.au/event/frac-meeting-2023-05-18/
LOCATION:LESNW Meeting Room 1\, LESNW Meeting Room 1\, 137 Archer Street\, North Adelaide\, 5006
CATEGORIES:FRAC
ORGANIZER;CN="Lutheran Education SA%2C NT & WA":MAILTO:office@lesnw.edu.au
END:VEVENT
BEGIN:VEVENT
DTSTART;TZID=Australia/Adelaide:20230517T090000
DTEND;TZID=Australia/Adelaide:20230517T160000
DTSTAMP:20260425T054825
CREATED:20230201T021257Z
LAST-MODIFIED:20230428T023225Z
UID:10003049-1684314000-1684339200@lesnw.edu.au
SUMMARY:Early Years and Primary CS Leaders and Teaching & Learning Leaders Workshop
DESCRIPTION:May 2023 Workshop Flyer \nThese days will guide and extend Teaching and Learning Leaders and CS Leaders conceptually with the CSCF to bridge learners from the EYLF to the SACE (both of which are using a conceptual approach). The pedagogical focus will include inquiry-based learning\, planning conceptually\, and explore assessments that set students up for success with SACE Spiritualities\, Religion and Meaning. We ask that you mark these dates in your calendar and plan to send at least 2 representatives from your learning community.  \nIf you have any questions\, please contact Sue Kupke or Andrew Bradtke.\nsue.kupke@lesnw.edu.au | andrew.bradtke@lesnw.edu.au \nPlease note that by registering for this workshop\, you are registering for both days (17th and 18th of May). 
URL:https://lesnw.edu.au/event/early-years-and-primary-cs-leaders-and-teaching-learning-leaders-workshop-1/
LOCATION:Immanuel Primary School\, Immanuel Primary School\, Saratoga Drive\, Novar Gardens\, South Australia\, 5040
CATEGORIES:CS Leaders
ORGANIZER;CN="Lutheran Education SA%2C NT & WA":MAILTO:office@lesnw.edu.au
END:VEVENT
BEGIN:VEVENT
DTSTART;TZID=Australia/Adelaide:20230517T090000
DTEND;TZID=Australia/Adelaide:20230517T150000
DTSTAMP:20260425T054825
CREATED:20230323T043703Z
LAST-MODIFIED:20230511T104137Z
UID:10002686-1684314000-1684335600@lesnw.edu.au
SUMMARY:LEA Worship and Devotions Project Workshop
DESCRIPTION:Worship and Devotional Life in Lutheran Schools and Early Childhood Services Workshop  \nWho:  This workshop is for people involved in planning and leading worship and the devotional life of learning communities in LESNW. This includes worship coordinators\, chaplains and school pastors. School leaders and staff who are passionate about worship and devotions are also welcome to attend. \nCost: Free. Morning tea and lunch provided. \nRegistrations close 10 May. \nWhy: The Worship and Devotional Life in Lutheran Schools and ECS Project aims to encourage\, support and resource schools and ECSs around the LEA. We want to find out from worship and devotional life leaders what the needs are in our learning communities and how we can best encourage and support them in their work. \nThis workshop will have a practical focus and provide participants with a voice in shaping the development of resources. \nWorkshop structure:  \n\nOpening devotion and welcome\nOverview of the Project\n\n\nReview of the new Guide to Worship and Guide to Devotions documents\n\nMorning tea  \n\nWorkshopping of worship and devotional resources from schools/ECSs (various activities)\n\nLunch \n\nShaping the final product – exploring ways to share and publicise the outcomes of the project\, developing sharing communities.\n\nPreparation  \nBefore attending the workshop\, participants are asked to: \n\ncomplete the survey here: https://www.surveymonkey.com/r/Worship_and_Devotions_Project\n\n\ntalk with staff in your learning community about the focus questions for the project: what do you struggle with when organising worship and devotions? What resources would help you? (opportunity to share your school/ECS’s thoughts will be provided at the workshop)\nbring one worship resource and one devotional resource with you to share at the workshop (please bring your resources in both printed and digital form).
URL:https://lesnw.edu.au/event/lea-worship-and-devotions-project-workshop/
LOCATION:LESNW Regional Office\, LESNW Regional Office\, 137 Archer Street\, North Adelaide\, 5006
END:VEVENT
BEGIN:VEVENT
DTSTART;TZID=Australia/Adelaide:20230512T090000
DTEND;TZID=Australia/Adelaide:20230512T153000
DTSTAMP:20260425T054825
CREATED:20221117T233512Z
LAST-MODIFIED:20221206T051525Z
UID:10002649-1683882000-1683905400@lesnw.edu.au
SUMMARY:Equip 2A Day 2
DESCRIPTION:Equip 2A dates\nDay 1 – May 11\nDay 2 – May 12\nDay 3 – May 25 \nPlease keep in mind that the three days of Equip must be completed sequentially\, i.e.\, you must complete Day 1 before Day 2 and so on.
URL:https://lesnw.edu.au/event/equip-2a-day-2-2023/
LOCATION:LESNW Regional Office\, LESNW Regional Office\, 137 Archer Street\, North Adelaide\, 5006
CATEGORIES:Equip
ORGANIZER;CN="Lutheran Education SA%2C NT & WA":MAILTO:office@lesnw.edu.au
END:VEVENT
BEGIN:VEVENT
DTSTART;TZID=Australia/Adelaide:20230511T090000
DTEND;TZID=Australia/Adelaide:20230511T153000
DTSTAMP:20260425T054825
CREATED:20221117T233230Z
LAST-MODIFIED:20221206T051513Z
UID:10002648-1683795600-1683819000@lesnw.edu.au
SUMMARY:Equip 2A Day 1
DESCRIPTION:Equip 2A dates\nDay 1 – May 11\nDay 2 – May 12\nDay 3 – May 25 \nPlease keep in mind that the three days of Equip must be completed sequentially\, i.e.\, you must complete Day 1 before Day 2 and so on.
URL:https://lesnw.edu.au/event/equip-2a-day-1-2023/
LOCATION:LESNW Regional Office\, LESNW Regional Office\, 137 Archer Street\, North Adelaide\, 5006
CATEGORIES:Equip
ORGANIZER;CN="Lutheran Education SA%2C NT & WA":MAILTO:office@lesnw.edu.au
END:VEVENT
BEGIN:VEVENT
DTSTART;TZID=Australia/Adelaide:20230510T090000
DTEND;TZID=Australia/Adelaide:20230510T150000
DTSTAMP:20260425T054825
CREATED:20230201T020403Z
LAST-MODIFIED:20230505T043222Z
UID:10002931-1683709200-1683730800@lesnw.edu.au
SUMMARY:Connect 4
DESCRIPTION:Connect explores Lutheran Education\, its beliefs and spiritual life. It helps new staff inquire into ‘why we do what we do’. The course supports new staff to explore and reflect on their role and contribution to the mission of their school or ECS. \nFor any questions regarding Connect\, please contact Stuart Traeger at stuart.traeger@lesnw.edu.au.
URL:https://lesnw.edu.au/event/connect-4-3/
LOCATION:LESNW Meeting Room 1\, LESNW Meeting Room 1\, 137 Archer Street\, North Adelaide\, 5006
CATEGORIES:Connect
ORGANIZER;CN="Lutheran Education SA%2C NT & WA":MAILTO:office@lesnw.edu.au
END:VEVENT
BEGIN:VEVENT
DTSTART;TZID=Australia/Adelaide:20230508T150000
DTEND;TZID=Australia/Adelaide:20230508T180000
DTSTAMP:20260425T054825
CREATED:20230125T033103Z
LAST-MODIFIED:20230125T033103Z
UID:10002554-1683558000-1683568800@lesnw.edu.au
SUMMARY:Connected Schools Hub Meeting
DESCRIPTION:
URL:https://lesnw.edu.au/event/connected-schools-hub-meeting-3/
LOCATION:St Paul Lutheran School\, St Paul Lutheran School\, 44 Audrey Ave\, Blair Athol\, SA\, 5084\, Australia
CATEGORIES:Connected Schools
END:VEVENT
BEGIN:VEVENT
DTSTART;TZID=Australia/Adelaide:20230508T083000
DTEND;TZID=Australia/Adelaide:20230508T160000
DTSTAMP:20260425T054825
CREATED:20221207T034128Z
LAST-MODIFIED:20230201T041346Z
UID:10002658-1683534600-1683561600@lesnw.edu.au
SUMMARY:Leadership Lab 1.0 for Principals\, Directors\, Heads of School & Middle/Senior Leaders - Day 1
DESCRIPTION:Leadership Lab dates\nDay 1 – May 8\nDay 2 – June 8\nDay 3 – August 11\nDay 4 – September 7 \nThe purpose of these sessions are to: \n\nBuild leadership capabilities and practices grounded in Growing deep\nDevelop personal mastery\, team learning and systems thinking grounded in the Compassionate Systems Framework to support innovation and improvement\nDevelop a community of practice and trust\n\nThe sessions will be co-led by Stephen Jude (Principal of Navigator College) and Mignon Weckert (Educational Leadership Director). \nThese labs are targeted at principals\, directors\, heads of school\, and middle/senior leaders. Participants are required to attend all sessions.
URL:https://lesnw.edu.au/event/leadership-lab-1-0-for-principals-directors-heads-of-schools-2023/
LOCATION:LESNW Meeting Room 1\, LESNW Meeting Room 1\, 137 Archer Street\, North Adelaide\, 5006
CATEGORIES:Learning Lab
ORGANIZER;CN="Lutheran Education SA%2C NT & WA":MAILTO:office@lesnw.edu.au
END:VEVENT
BEGIN:VEVENT
DTSTART;VALUE=DATE:20230508
DTEND;VALUE=DATE:20230511
DTSTAMP:20260425T054825
CREATED:20221206T053217Z
LAST-MODIFIED:20221206T053719Z
UID:10002651-1683504000-1683763199@lesnw.edu.au
SUMMARY:Contemporary Learning Tour 2023 - Sydney
DESCRIPTION:To register for an upcoming tour\, please click here and follow the link. \nIf you have any questions about tours that go beyond the information that is currently available on the Contemporary Learning Tours website\, please contact Andrew Bradtke. \nLESNW Education Leader\nandrew.bradtke@lesnw.edu.au | 0437 818 288
URL:https://lesnw.edu.au/event/contemporary-learning-tour-2023-sydney/
LOCATION:Sydney\, Sydney\, New South Wales\, 2000
CATEGORIES:Learning Tours
END:VEVENT
BEGIN:VEVENT
DTSTART;TZID=Australia/Adelaide:20230505T170000
DTEND;TZID=Australia/Adelaide:20230505T183000
DTSTAMP:20260425T054825
CREATED:20221130T041259Z
LAST-MODIFIED:20230331T053025Z
UID:10002545-1683306000-1683311400@lesnw.edu.au
SUMMARY:LESNW Annual General Meeting
DESCRIPTION:Online and face to face attendance available. \nDrinks and nibbles in the LESNW Office from 4.30pm. AGM to begin at 5.00pm.
URL:https://lesnw.edu.au/event/lesnw-annual-general-meeting-2/
LOCATION:LESNW Meeting Room 1\, LESNW Meeting Room 1\, 137 Archer Street\, North Adelaide\, 5006
ORGANIZER;CN="Lutheran Education SA%2C NT & WA":MAILTO:office@lesnw.edu.au
END:VEVENT
BEGIN:VEVENT
DTSTART;TZID=Australia/Adelaide:20230404T090000
DTEND;TZID=Australia/Adelaide:20230404T150000
DTSTAMP:20260425T054825
CREATED:20230213T002915Z
LAST-MODIFIED:20230213T223954Z
UID:10003053-1680598800-1680620400@lesnw.edu.au
SUMMARY:Connect Facilitator Training
DESCRIPTION:This training aims to assist Connect facilitators to better understand the purpose and delivery of Connect to their staff\, as well as: \n\nHear how other communities are running Connect and share best practice\nRevisit the ‘why’ and ‘how’ of Connect\nDiscuss ePortfolio exemplars and discuss requirements with Anne Dohnt (LEA)\nFamiliarise yourself with the ‘nuts and bolts’ of Connect\nSee the updated resources.\n\nFor any questions regarding Connect\, please contact Stuart Traeger at stuart.traeger@lesnw.edu.au.
URL:https://lesnw.edu.au/event/connect-facilitator-training-2023-04-04/
LOCATION:LESNW Meeting Room 1\, LESNW Meeting Room 1\, 137 Archer Street\, North Adelaide\, 5006
CATEGORIES:Connect
ORGANIZER;CN="Lutheran Education SA%2C NT & WA":MAILTO:office@lesnw.edu.au
END:VEVENT
BEGIN:VEVENT
DTSTART;TZID=Australia/Adelaide:20230331T093000
DTEND;TZID=Australia/Adelaide:20230331T153000
DTSTAMP:20260425T054825
CREATED:20230223T222850Z
LAST-MODIFIED:20230328T225705Z
UID:10003057-1680255000-1680276600@lesnw.edu.au
SUMMARY:LILLC - Secondary Term 1
DESCRIPTION:LILLC Term 1 2023 Flyer \nParticipants will have an opportunity to: \n\nConnect and network with leaders across SA\, NT & WA\nDevelop leadership through spiritual reflections and the Growing deep leadership and formation framework\nEngage in a Story from the field from Christian Neumann (Head of MS) and Kaye Mathwin-Cox (Principal).\n\nRegistrations close Friday 24th of March. Please indicate on your registration if you will be attending in person or online. A Microsoft Teams link is available for those planning to attend online.
URL:https://lesnw.edu.au/event/lillc-secondary-term-1-2023/
LOCATION:Unity College\, Unity College\, 45/61 Owl Drive\, Murray Bridge\, South Australia\, 5253
CATEGORIES:LILLC
ORGANIZER;CN="Lutheran Education SA%2C NT & WA":MAILTO:office@lesnw.edu.au
END:VEVENT
BEGIN:VEVENT
DTSTART;TZID=Australia/Adelaide:20230330T090000
DTEND;TZID=Australia/Adelaide:20230330T150000
DTSTAMP:20260425T054825
CREATED:20221207T025118Z
LAST-MODIFIED:20221207T025231Z
UID:10002655-1680166800-1680188400@lesnw.edu.au
SUMMARY:Connect 4
DESCRIPTION:Connect explores Lutheran Education\, its beliefs and spiritual life. It helps new staff inquire into ‘why we do what we do’. The course supports new staff to explore and reflect on their role and contribution to the mission of their school or ECS. \nFor any questions regarding Connect\, please contact Stuart Traeger at stuart.traeger@lesnw.edu.au.
URL:https://lesnw.edu.au/event/connect-4-2023-03-30/
LOCATION:LESNW Meeting Room 1\, LESNW Meeting Room 1\, 137 Archer Street\, North Adelaide\, 5006
CATEGORIES:Connect
ORGANIZER;CN="Lutheran Education SA%2C NT & WA":MAILTO:office@lesnw.edu.au
END:VEVENT
BEGIN:VEVENT
DTSTART;TZID=Australia/Adelaide:20230329T090000
DTEND;TZID=Australia/Adelaide:20230329T160000
DTSTAMP:20260425T054825
CREATED:20230205T233719Z
LAST-MODIFIED:20230205T234601Z
UID:10002680-1680080400-1680105600@lesnw.edu.au
SUMMARY:Business Managers Meeting (Term 1)
DESCRIPTION:Please indicate on your RSVP if you would like to attend this meeting online (Microsoft Teams) or in person. \nPlease contact Brad Richmond with any enquiries.\nbrad.richmond@lesnw.edu.au | 0408 486 381
URL:https://lesnw.edu.au/event/business-managers-meeting-term-1/
LOCATION:LESNW Meeting Room 1\, LESNW Meeting Room 1\, 137 Archer Street\, North Adelaide\, 5006
CATEGORIES:Business Managers
ORGANIZER;CN="Lutheran Education SA%2C NT & WA":MAILTO:office@lesnw.edu.au
END:VEVENT
END:VCALENDAR