BEGIN:VCALENDAR
VERSION:2.0
PRODID:-//Lutheran Education - ECPv6.15.20//NONSGML v1.0//EN
CALSCALE:GREGORIAN
METHOD:PUBLISH
X-WR-CALNAME:Lutheran Education
X-ORIGINAL-URL:https://lesnw.edu.au
X-WR-CALDESC:Events for Lutheran Education
REFRESH-INTERVAL;VALUE=DURATION:PT1H
X-Robots-Tag:noindex
X-PUBLISHED-TTL:PT1H
BEGIN:VTIMEZONE
TZID:Australia/Adelaide
BEGIN:STANDARD
TZOFFSETFROM:+1030
TZOFFSETTO:+0930
TZNAME:ACST
DTSTART:20240406T163000
END:STANDARD
BEGIN:DAYLIGHT
TZOFFSETFROM:+0930
TZOFFSETTO:+1030
TZNAME:ACDT
DTSTART:20241005T163000
END:DAYLIGHT
BEGIN:STANDARD
TZOFFSETFROM:+1030
TZOFFSETTO:+0930
TZNAME:ACST
DTSTART:20250405T163000
END:STANDARD
BEGIN:DAYLIGHT
TZOFFSETFROM:+0930
TZOFFSETTO:+1030
TZNAME:ACDT
DTSTART:20251004T163000
END:DAYLIGHT
BEGIN:STANDARD
TZOFFSETFROM:+1030
TZOFFSETTO:+0930
TZNAME:ACST
DTSTART:20260404T163000
END:STANDARD
BEGIN:DAYLIGHT
TZOFFSETFROM:+0930
TZOFFSETTO:+1030
TZNAME:ACDT
DTSTART:20261003T163000
END:DAYLIGHT
END:VTIMEZONE
BEGIN:VEVENT
DTSTART;TZID=Australia/Adelaide:20250526T090000
DTEND;TZID=Australia/Adelaide:20250526T153000
DTSTAMP:20260425T025524
CREATED:20241126T044655Z
LAST-MODIFIED:20250306T040008Z
UID:10003148-1748250000-1748273400@lesnw.edu.au
SUMMARY:Secondary Christian Studies Leaders Professional Learning Workshop
DESCRIPTION:Location: LESNW Regional Office\, Meeting Room 1\nWorkshop Flyer (PDF) \nRegistrations close Monday 19 May at 4.00pm.
URL:https://lesnw.edu.au/event/2025-secondary-christian-studies-leaders/
LOCATION:LESNW Meeting Room 1\, LESNW Meeting Room 1\, 137 Archer Street\, North Adelaide\, 5006
CATEGORIES:Christian Studies,CS Leaders,Professional Development,Secondary
ORGANIZER;CN="Lutheran Education SA%2C NT & WA":MAILTO:office@lesnw.edu.au
END:VEVENT
BEGIN:VEVENT
DTSTART;VALUE=DATE:20250526
DTEND;VALUE=DATE:20250527
DTSTAMP:20260425T025524
CREATED:20241126T044458Z
LAST-MODIFIED:20241126T044458Z
UID:10003147-1748217600-1748303999@lesnw.edu.au
SUMMARY:Chairs of Boards/Councils Gathering
DESCRIPTION:
URL:https://lesnw.edu.au/event/2025-chairs-of-boards-councils-gathering-4/
LOCATION:Online Meeting\, Online Meeting
CATEGORIES:Board,Online
ORGANIZER;CN="Lutheran Education SA%2C NT & WA":MAILTO:office@lesnw.edu.au
END:VEVENT
BEGIN:VEVENT
DTSTART;TZID=Australia/Adelaide:20250523T090000
DTEND;TZID=Australia/Adelaide:20250523T160000
DTSTAMP:20260425T025524
CREATED:20250408T063801Z
LAST-MODIFIED:20250518T224006Z
UID:10002810-1747990800-1748016000@lesnw.edu.au
SUMMARY:Year 1 Leaders Network
DESCRIPTION:Location: ICOSA Centre Immanuel College \nYear One Leaders Network – Reconnection and Professional Learning.\nRegistrations close on Friday 16 May at 4.00pm.
URL:https://lesnw.edu.au/event/2025-year-1-leaders-network-2/
LOCATION:Immanuel College\, Immanuel College\, 32 Morphett Road\, Novar Gardens\, South Australia\, 5040
CATEGORIES:Y1 Leaders Network
END:VEVENT
BEGIN:VEVENT
DTSTART;VALUE=DATE:20250523
DTEND;VALUE=DATE:20250524
DTSTAMP:20260425T025524
CREATED:20241126T043908Z
LAST-MODIFIED:20250224T004734Z
UID:10003146-1747958400-1748044799@lesnw.edu.au
SUMMARY:Principals and Directors Collegial Networks
DESCRIPTION:
URL:https://lesnw.edu.au/event/2025-principals-and-directors-collegial-networks-3/
CATEGORIES:Directors,PaD,Principals
END:VEVENT
BEGIN:VEVENT
DTSTART;TZID=Australia/Adelaide:20250522T090000
DTEND;TZID=Australia/Adelaide:20250523T153000
DTSTAMP:20260425T025524
CREATED:20241126T043718Z
LAST-MODIFIED:20250520T085052Z
UID:10003145-1747904400-1748014200@lesnw.edu.au
SUMMARY:Early Years and Primary Christian Studies Leaders Professional Learning Workshop
DESCRIPTION:Location: LESNW Regional Office\, Meeting Room 1\nWorkshop Flyer (PDF) \nRegistrations close Friday 16 May at 4.00pm.
URL:https://lesnw.edu.au/event/2025-early-years-and-primary-christian-studies-leaders/
LOCATION:LESNW Meeting Room 1\, LESNW Meeting Room 1\, 137 Archer Street\, North Adelaide\, 5006
CATEGORIES:Christian Studies,CS Leaders,Early Years,Primary,Professional Development
ORGANIZER;CN="Lutheran Education SA%2C NT & WA":MAILTO:office@lesnw.edu.au
END:VEVENT
BEGIN:VEVENT
DTSTART;TZID=Australia/Adelaide:20250522T090000
DTEND;TZID=Australia/Adelaide:20250522T153000
DTSTAMP:20260425T025524
CREATED:20250113T045329Z
LAST-MODIFIED:20250408T052118Z
UID:10003171-1747904400-1747927800@lesnw.edu.au
SUMMARY:Principals and Directors (PaD) Meeting
DESCRIPTION:Location: LLL Boardroom (Jerusalem Boardroom) \nRegistrations close: 16 May 2025 \n8.45am           Devotion/Grounding – Stuart Traeger\n9.00am           LESNW matters – Craig Fielke\n9.30am           Board Matters – Jane Mueller\n10.30am         Pastor Appointments – bishop Andrew Brook\n11.00am         RECESS\n11.30am         Complispace – practical troubleshooting workshop\n1.00pm           LUNCH\n1.30pm           Educational Consultant – Rebecca Starling – “The Star Hunch Board™”\n2.15pm           Stories from the field – panel of experts sharing challenging enrolment journeys with children with disabilities and propensity for violence.\n3.00pm           Mission opportunities – Nick Heyne\n3.45pm           Close of day\n 
URL:https://lesnw.edu.au/event/2025-principals-and-directors-pad-t2/
LOCATION:LLL Boardroom\, 175 Archer Street\, North Adelaide\, SA\, 5006\, Australia
CATEGORIES:Directors,PaD,Principals,Professional Development
END:VEVENT
BEGIN:VEVENT
DTSTART;TZID=Australia/Adelaide:20250520T090000
DTEND;TZID=Australia/Adelaide:20250520T153000
DTSTAMP:20260425T025524
CREATED:20241114T043117Z
LAST-MODIFIED:20241114T052510Z
UID:10002739-1747731600-1747755000@lesnw.edu.au
SUMMARY:Term 2: Equip 1 (Day 3)
DESCRIPTION:Location: LESNW Meeting Room 1 \nDay 1 | Friday 9 May\nDay 2 | Monday 19 May\nDay 3 | Tuesday 20 May \nRegister for the above days here.
URL:https://lesnw.edu.au/event/2025-term-2-equip-1-day-3/
LOCATION:LESNW Regional Office\, LESNW Regional Office\, 137 Archer Street\, North Adelaide\, 5006
CATEGORIES:Equip,Equip 1
ORGANIZER;CN="Lutheran Education SA%2C NT & WA":MAILTO:office@lesnw.edu.au
END:VEVENT
BEGIN:VEVENT
DTSTART;TZID=Australia/Adelaide:20250519T090000
DTEND;TZID=Australia/Adelaide:20250519T153000
DTSTAMP:20260425T025524
CREATED:20241114T042952Z
LAST-MODIFIED:20241114T052500Z
UID:10002738-1747645200-1747668600@lesnw.edu.au
SUMMARY:Term 2: Equip 1 (Day 2)
DESCRIPTION:Location: LESNW Meeting Room 1 \nDay 1 | Friday 9 May\nDay 2 | Monday 19 May\nDay 3 | Tuesday 20 May \nRegister for the above days here.
URL:https://lesnw.edu.au/event/2025-term-2-equip-1-day-2/
LOCATION:LESNW Regional Office\, LESNW Regional Office\, 137 Archer Street\, North Adelaide\, 5006
CATEGORIES:Equip,Equip 1
ORGANIZER;CN="Lutheran Education SA%2C NT & WA":MAILTO:office@lesnw.edu.au
END:VEVENT
BEGIN:VEVENT
DTSTART;TZID=Australia/Adelaide:20250516T083000
DTEND;TZID=Australia/Adelaide:20250516T160000
DTSTAMP:20260425T025524
CREATED:20241121T050747Z
LAST-MODIFIED:20250131T090618Z
UID:10003132-1747384200-1747411200@lesnw.edu.au
SUMMARY:Compassionate Systems Deepening Practice (Day 3)
DESCRIPTION:Location: LESNW Regional Office \nDay 1 | Wednesday 19 February\nDay 2 | Thursday 3 April\nDay 3 | Friday 16 May\nDay 4 | Friday 15 August \nRegister for the above days here.
URL:https://lesnw.edu.au/event/2025-compassionate-systems-deepening-practice-day-3/
LOCATION:LESNW Meeting Room 1\, LESNW Meeting Room 1\, 137 Archer Street\, North Adelaide\, 5006
CATEGORIES:Compassionate Systems
ORGANIZER;CN="Lutheran Education SA%2C NT & WA":MAILTO:office@lesnw.edu.au
END:VEVENT
BEGIN:VEVENT
DTSTART;TZID=Australia/Adelaide:20250515T090000
DTEND;TZID=Australia/Adelaide:20250515T150000
DTSTAMP:20260425T025524
CREATED:20241126T042629Z
LAST-MODIFIED:20250509T032653Z
UID:10003144-1747299600-1747321200@lesnw.edu.au
SUMMARY:Connect 4
DESCRIPTION:Location: LESNW Regional Office\n\nConnect explores Lutheran Education\, its beliefs and spiritual life. It helps new staff inquire into ‘why we do what we do’. The course supports new staff to explore and reflect on their role and contribution to the mission of their school or ECS. \nFor any questions regarding Connect\, please contact Stuart Traeger.\nRegistrations close Thursday 8 May at 4.00pm. \n 
URL:https://lesnw.edu.au/event/2025-connect-4-may/
LOCATION:LESNW Meeting Room 1\, LESNW Meeting Room 1\, 137 Archer Street\, North Adelaide\, 5006
CATEGORIES:Connect,Professional Development
ORGANIZER;CN="Lutheran Education SA%2C NT & WA":MAILTO:office@lesnw.edu.au
END:VEVENT
BEGIN:VEVENT
DTSTART;TZID=Australia/Adelaide:20250514T170000
DTEND;TZID=Australia/Adelaide:20250514T183000
DTSTAMP:20260425T025524
CREATED:20241126T042433Z
LAST-MODIFIED:20250414T010635Z
UID:10003143-1747242000-1747247400@lesnw.edu.au
SUMMARY:LESNW Annual General Meeting
DESCRIPTION:Location: LESNW Regional Office \nThe Principal/Director and one Governing Council/Board Representative for each learning community are encouraged to attend.\nOnly one representative from each learning community is able to vote (please indicate as part of your registration). \nRegistrations close on Friday 9 May 2025. All papers will be forwarded by 30 April 2025.
URL:https://lesnw.edu.au/event/2025-lesnw-agm/
LOCATION:LESNW Meeting Room 1\, LESNW Meeting Room 1\, 137 Archer Street\, North Adelaide\, 5006
CATEGORIES:Board,Directors,Principals
ORGANIZER;CN="Lutheran Education SA%2C NT & WA":MAILTO:office@lesnw.edu.au
END:VEVENT
BEGIN:VEVENT
DTSTART;TZID=Australia/Adelaide:20250513T120000
DTEND;TZID=Australia/Adelaide:20250513T130000
DTSTAMP:20260425T025524
CREATED:20250401T014826Z
LAST-MODIFIED:20250402T052352Z
UID:10002807-1747137600-1747141200@lesnw.edu.au
SUMMARY:PaD CompliSpace Online Forum
DESCRIPTION:Location: Online\nAudience: LESNW Principals and Directors \nPrior to this forum\, the PaD executive requests that you supply the following information to help guide these discussions and to inform Complispace of points for discussion and demonstration.\n\n\nStrengths of Complispace at individual sites\nHints and tips for what works well in using Complispace and/or policy connect\nSite specific challenges in using Complispace\nSpecific detail of how Complispace falls short in a particular scenario with explicit information about this shortcoming and possible solutions Principals/Directors would like to see in place\n\nPlease email this information to Angela Branford no later than Friday 25 April so the PaD executive can summarise and group these prior to the first online forum.
URL:https://lesnw.edu.au/event/2025-pad-complispace-online-forum-3/
LOCATION:Microsoft Teams Meeting\, Microsoft Teams Meeting
CATEGORIES:Directors,PaD,Principals
END:VEVENT
BEGIN:VEVENT
DTSTART;TZID=Australia/Adelaide:20250513T093000
DTEND;TZID=Australia/Adelaide:20250513T153000
DTSTAMP:20260425T025524
CREATED:20250131T092213Z
LAST-MODIFIED:20250507T031844Z
UID:10003175-1747128600-1747150200@lesnw.edu.au
SUMMARY:ALWS What's My Business Workshop
DESCRIPTION:Location: LESNW Regional Office\, Meeting Room 1\nWorkshop Flyer (PDF)*\n*Please note this event has changed to a one-day event on Tuesday 13 May. \nJoin us for a workshop designed to enhance your approach to student-led projects. Whether you’re new to the “What’s My Business?” program or want to know more\, this event offers foundational training\, project updates\, and opportunities to connect with fellow educators. Morning tea and lunch provided  \nRegistrations close Friday 9 May at 9.00am.
URL:https://lesnw.edu.au/event/2025-alws-whats-my-business-workshop/
LOCATION:LESNW Meeting Room 1\, LESNW Meeting Room 1\, 137 Archer Street\, North Adelaide\, 5006
CATEGORIES:Professional Development
END:VEVENT
BEGIN:VEVENT
DTSTART;TZID=Australia/Adelaide:20250512T083000
DTEND;TZID=Australia/Adelaide:20250512T160000
DTSTAMP:20260425T025524
CREATED:20241121T052432Z
LAST-MODIFIED:20250402T001841Z
UID:10003134-1747038600-1747065600@lesnw.edu.au
SUMMARY:Leadership Learning Lab 1.0
DESCRIPTION:Location: LESNW Regional Office\nAudience: This lab is relevant to principals\, directors\, heads of school\, middle/senior leaders\, board chairs\, Business\, HR\, Admin and anyone in a leadership role.\nTeams of up to 4 are welcome to register. \nDay 1 | Monday 12 May\nDay 2 | Friday 13 June\nDay 3 | Thursday 7 August\nDay 4 | Friday 12 September\n* Participants are required to attend all sessions. \nBuilding awareness of Compassionate Systems tools and practices connecting to grow the leadership capabilities in “Growing Deep”. Compassionate Systems draws on practices that are effective in building individual insight and well-being and extends them to include the strengthening of interpersonal relationships while deepening the understanding of how the whole system contributes to outcomes. \nParticipants will: \n\nDevelop personal mastery\, team learning and systems awareness to support innovation and improvement.\nGrow leadership capabilities and practices grounded in Growing Deep using Compassionate Systems tools and practices. \nDevelop a community of practice and trust.\n\nThis professional learning will be facilitated by Stephen Jude\, Principal of Navigator College ELC-Yr 12. \nPlease note: By registering for this event you are registering for the above four days.
URL:https://lesnw.edu.au/event/2025-leadership-learning-lab-1-day-1/
LOCATION:LESNW Meeting Room 1\, LESNW Meeting Room 1\, 137 Archer Street\, North Adelaide\, 5006
CATEGORIES:Compassionate Systems,Learning Lab
ORGANIZER;CN="Lutheran Education SA%2C NT & WA":MAILTO:office@lesnw.edu.au
END:VEVENT
BEGIN:VEVENT
DTSTART;TZID=Australia/Adelaide:20250509T090000
DTEND;TZID=Australia/Adelaide:20250509T153000
DTSTAMP:20260425T025524
CREATED:20241106T041808Z
LAST-MODIFIED:20241114T054555Z
UID:10002732-1746781200-1746804600@lesnw.edu.au
SUMMARY:Term 2: Equip 1
DESCRIPTION:Location: LESNW Meeting Room 1 \nDay 1 | Friday 9 May\nDay 2 | Monday 19 May\nDay 3 | Tuesday 20 May \nPlease note: By registering for this event you are registering for the three above days of Equip 1.\nRegistrations close Wednesday 30 April 2025.
URL:https://lesnw.edu.au/event/2025-term-2-equip-1-day-1/
LOCATION:LESNW Regional Office\, LESNW Regional Office\, 137 Archer Street\, North Adelaide\, 5006
CATEGORIES:Equip,Equip 1
ORGANIZER;CN="Lutheran Education SA%2C NT & WA":MAILTO:office@lesnw.edu.au
END:VEVENT
BEGIN:VEVENT
DTSTART;TZID=Australia/Adelaide:20250508T140000
DTEND;TZID=Australia/Adelaide:20250508T150000
DTSTAMP:20260425T025524
CREATED:20250401T014326Z
LAST-MODIFIED:20250402T052345Z
UID:10002806-1746712800-1746716400@lesnw.edu.au
SUMMARY:PaD CompliSpace Online Forum
DESCRIPTION:Location: Online\nAudience: LESNW Principals and Directors \nPrior to this forum\, the PaD executive requests that you supply the following information to help guide these discussions and to inform Complispace of points for discussion and demonstration.\n\n\nStrengths of Complispace at individual sites\nHints and tips for what works well in using Complispace and/or policy connect\nSite specific challenges in using Complispace\nSpecific detail of how Complispace falls short in a particular scenario with explicit information about this shortcoming and possible solutions Principals/Directors would like to see in place\n\nPlease email this information to Angela Branford no later than Friday 25 April so the PaD executive can summarise and group these prior to the first online forum.
URL:https://lesnw.edu.au/event/2025-pad-complispace-online-forum-2/
LOCATION:Microsoft Teams Meeting\, Microsoft Teams Meeting
CATEGORIES:Directors,PaD,Principals
END:VEVENT
BEGIN:VEVENT
DTSTART;TZID=Australia/Adelaide:20250508T090000
DTEND;TZID=Australia/Adelaide:20250508T150000
DTSTAMP:20260425T025524
CREATED:20250209T232108Z
LAST-MODIFIED:20250430T230052Z
UID:10003176-1746694800-1746716400@lesnw.edu.au
SUMMARY:New Teachers to Lutheran Learning Communities
DESCRIPTION:Location: LESNW Regional Office\, Meeting Room 1\nEvent Flyer (PDF) \nFor teachers in their 1st\, 2nd or 3rd year of teaching in the Lutheran Education network. \nThe purpose of the day is to bring new teachers to Lutheran learning communities together to: \n\nExplore Growing Deep Leadership and Formation Framework. ​\nDeepen their understanding of the Lutheran Education approach to teaching (vocation) and broader system (place) ​\nDeepening understanding of Free to Flourish and it’s attributes – Adventurous\, Compassionate\, Relational\, Purposeful​\nExperience connection with their peers from other Learning Communities and feeling valued by the Lutheran Education community.\n\nRegistrations close on Wednesday 30 April at 4.00pm. \n 
URL:https://lesnw.edu.au/event/2025-new-teachers-to-lutheran-learning-communities/
LOCATION:LESNW Meeting Room 1\, LESNW Meeting Room 1\, 137 Archer Street\, North Adelaide\, 5006
CATEGORIES:LILLC
END:VEVENT
BEGIN:VEVENT
DTSTART;VALUE=DATE:20250505
DTEND;VALUE=DATE:20250506
DTSTAMP:20260425T025524
CREATED:20241119T010941Z
LAST-MODIFIED:20241119T012140Z
UID:10002753-1746403200-1746489599@lesnw.edu.au
SUMMARY:May Day (NT)
DESCRIPTION:
URL:https://lesnw.edu.au/event/may-day-nt/
CATEGORIES:NT Public Holiday,Public Holiday
END:VEVENT
BEGIN:VEVENT
DTSTART;TZID=Australia/Adelaide:20250430T100000
DTEND;TZID=Australia/Adelaide:20250430T110000
DTSTAMP:20260425T025524
CREATED:20250401T014003Z
LAST-MODIFIED:20250402T052340Z
UID:10002805-1746007200-1746010800@lesnw.edu.au
SUMMARY:PaD CompliSpace Online Forum
DESCRIPTION:Location: Online\nAudience: LESNW Principals and Directors \nPrior to this forum\, the PaD executive requests that you supply the following information to help guide these discussions and to inform Complispace of points for discussion and demonstration.\n\n\nStrengths of Complispace at individual sites\nHints and tips for what works well in using Complispace and/or policy connect\nSite specific challenges in using Complispace\nSpecific detail of how Complispace falls short in a particular scenario with explicit information about this shortcoming and possible solutions Principals/Directors would like to see in place\n\nPlease email this information to Angela Branford no later than Friday 25 April so the PaD executive can summarise and group these prior to the first online forum.
URL:https://lesnw.edu.au/event/2025-pad-complispace-online-forum/
LOCATION:Microsoft Teams Meeting\, Microsoft Teams Meeting
CATEGORIES:Directors,PaD,Principals
END:VEVENT
BEGIN:VEVENT
DTSTART;VALUE=DATE:20250430
DTEND;VALUE=DATE:20250503
DTSTAMP:20260425T025524
CREATED:20241126T042054Z
LAST-MODIFIED:20250401T215826Z
UID:10003142-1745971200-1746230399@lesnw.edu.au
SUMMARY:LEA Ministry Personnel Workshop
DESCRIPTION:Location: LEVNT Office\nAudience: Those who have a significant role in ministry in Lutheran learning communities\nWorkshop Flyer (PDF) \nThis three-day workshop is foundational for all who have a significant role in ministry in Lutheran learning communities. It provides participants with an understanding of how core theological concepts shape a Lutheran education context\, the worship life of the community\, our approach to pastoral care\, and what learning looks like in a Lutheran school (please below PDF for a breakdown of these concepts). The workshop can also be used as LEA Accreditation as a Ministry Personnel.  \nBreakdown of Concepts (PDF) \nRegister through LEA here (Link)
URL:https://lesnw.edu.au/event/2025-lea-ministry-personnel-workshop/
END:VEVENT
BEGIN:VEVENT
DTSTART;VALUE=DATE:20250428
DTEND;VALUE=DATE:20250429
DTSTAMP:20260425T025524
CREATED:20241126T041546Z
LAST-MODIFIED:20241126T041546Z
UID:10003141-1745798400-1745884799@lesnw.edu.au
SUMMARY:LESNW Board Meeting
DESCRIPTION:
URL:https://lesnw.edu.au/event/2025-lesnw-board-meeting-3/
LOCATION:Online Meeting\, Online Meeting
CATEGORIES:Board
ORGANIZER;CN="Lutheran Education SA%2C NT & WA":MAILTO:office@lesnw.edu.au
END:VEVENT
BEGIN:VEVENT
DTSTART;VALUE=DATE:20250425
DTEND;VALUE=DATE:20250426
DTSTAMP:20260425T025524
CREATED:20241119T010001Z
LAST-MODIFIED:20241119T012131Z
UID:10003124-1745539200-1745625599@lesnw.edu.au
SUMMARY:ANZAC Day
DESCRIPTION:
URL:https://lesnw.edu.au/event/anzac-day/
CATEGORIES:NT Public Holiday,Public Holiday,SA Public Holiday,WA Public Holiday
END:VEVENT
BEGIN:VEVENT
DTSTART;VALUE=DATE:20250421
DTEND;VALUE=DATE:20250422
DTSTAMP:20260425T025524
CREATED:20241119T005748Z
LAST-MODIFIED:20241119T012122Z
UID:10003122-1745193600-1745279999@lesnw.edu.au
SUMMARY:Easter Monday
DESCRIPTION:
URL:https://lesnw.edu.au/event/easter-monday/
CATEGORIES:NT Public Holiday,Public Holiday,SA Public Holiday,WA Public Holiday
END:VEVENT
BEGIN:VEVENT
DTSTART;VALUE=DATE:20250420
DTEND;VALUE=DATE:20250421
DTSTAMP:20260425T025524
CREATED:20241119T005722Z
LAST-MODIFIED:20241119T012109Z
UID:10003121-1745107200-1745193599@lesnw.edu.au
SUMMARY:Easter Sunday
DESCRIPTION:
URL:https://lesnw.edu.au/event/easter-sunday/
CATEGORIES:NT Public Holiday,Public Holiday,SA Public Holiday,WA Public Holiday
END:VEVENT
BEGIN:VEVENT
DTSTART;VALUE=DATE:20250419
DTEND;VALUE=DATE:20250420
DTSTAMP:20260425T025524
CREATED:20241119T010434Z
LAST-MODIFIED:20241119T012057Z
UID:10003129-1745020800-1745107199@lesnw.edu.au
SUMMARY:Easter Saturday
DESCRIPTION:
URL:https://lesnw.edu.au/event/easter-saturday/
CATEGORIES:NT Public Holiday,Public Holiday,SA Public Holiday
END:VEVENT
BEGIN:VEVENT
DTSTART;VALUE=DATE:20250418
DTEND;VALUE=DATE:20250419
DTSTAMP:20260425T025524
CREATED:20241119T005621Z
LAST-MODIFIED:20241119T012031Z
UID:10002750-1744934400-1745020799@lesnw.edu.au
SUMMARY:Good Friday
DESCRIPTION:
URL:https://lesnw.edu.au/event/good-friday/
CATEGORIES:NT Public Holiday,Public Holiday,SA Public Holiday,WA Public Holiday
END:VEVENT
BEGIN:VEVENT
DTSTART;VALUE=DATE:20250410
DTEND;VALUE=DATE:20250411
DTSTAMP:20260425T025524
CREATED:20241126T041321Z
LAST-MODIFIED:20241126T041321Z
UID:10002770-1744243200-1744329599@lesnw.edu.au
SUMMARY:Chairs of Boards/Councils Gathering
DESCRIPTION:
URL:https://lesnw.edu.au/event/2025-chairs-of-boards-councils-gathering-3/
LOCATION:Online Meeting\, Online Meeting
CATEGORIES:Board,Online
ORGANIZER;CN="Lutheran Education SA%2C NT & WA":MAILTO:office@lesnw.edu.au
END:VEVENT
BEGIN:VEVENT
DTSTART;TZID=Australia/Adelaide:20250403T083000
DTEND;TZID=Australia/Adelaide:20250403T160000
DTSTAMP:20260425T025524
CREATED:20241121T050618Z
LAST-MODIFIED:20250131T090610Z
UID:10003131-1743669000-1743696000@lesnw.edu.au
SUMMARY:Compassionate Systems Deepening Practice (Day 2)
DESCRIPTION:Location: LESNW Regional Office \nDay 1 | Wednesday 19 February\nDay 2 | Thursday 3 April\nDay 3 | Friday 16 May\nDay 4 | Friday 15 August \nRegister for the above days here.
URL:https://lesnw.edu.au/event/2025-compassionate-systems-deepening-practice-day-2/
LOCATION:LESNW Meeting Room 1\, LESNW Meeting Room 1\, 137 Archer Street\, North Adelaide\, 5006
CATEGORIES:Compassionate Systems
ORGANIZER;CN="Lutheran Education SA%2C NT & WA":MAILTO:office@lesnw.edu.au
END:VEVENT
BEGIN:VEVENT
DTSTART;TZID=Australia/Adelaide:20250402T090000
DTEND;TZID=Australia/Adelaide:20250402T160000
DTSTAMP:20260425T025524
CREATED:20250327T001133Z
LAST-MODIFIED:20250327T001322Z
UID:10002802-1743584400-1743609600@lesnw.edu.au
SUMMARY:Year 1 Leaders Network - Reconnection
DESCRIPTION:Location: LESNW Regional Office\nYear One Leaders Network – reconnection and check-in
URL:https://lesnw.edu.au/event/year-1-leaders-network-2025/
LOCATION:LESNW Meeting Room 1\, LESNW Meeting Room 1\, 137 Archer Street\, North Adelaide\, 5006
CATEGORIES:Y1 Leaders Network
ORGANIZER;CN="Lutheran Education SA%2C NT & WA":MAILTO:office@lesnw.edu.au
END:VEVENT
BEGIN:VEVENT
DTSTART;VALUE=DATE:20250402
DTEND;VALUE=DATE:20250403
DTSTAMP:20260425T025524
CREATED:20241126T041152Z
LAST-MODIFIED:20250224T004744Z
UID:10002769-1743552000-1743638399@lesnw.edu.au
SUMMARY:Principals and Directors Collegial Networks
DESCRIPTION:
URL:https://lesnw.edu.au/event/2025-principals-and-directors-collegial-networks-2/
CATEGORIES:Directors,PaD,Principals
END:VEVENT
END:VCALENDAR