BEGIN:VCALENDAR
VERSION:2.0
PRODID:-//Lutheran Education - ECPv6.15.20//NONSGML v1.0//EN
CALSCALE:GREGORIAN
METHOD:PUBLISH
X-WR-CALNAME:Lutheran Education
X-ORIGINAL-URL:https://lesnw.edu.au
X-WR-CALDESC:Events for Lutheran Education
REFRESH-INTERVAL;VALUE=DURATION:PT1H
X-Robots-Tag:noindex
X-PUBLISHED-TTL:PT1H
BEGIN:VTIMEZONE
TZID:Australia/Adelaide
BEGIN:STANDARD
TZOFFSETFROM:+1030
TZOFFSETTO:+0930
TZNAME:ACST
DTSTART:20240406T163000
END:STANDARD
BEGIN:DAYLIGHT
TZOFFSETFROM:+0930
TZOFFSETTO:+1030
TZNAME:ACDT
DTSTART:20241005T163000
END:DAYLIGHT
BEGIN:STANDARD
TZOFFSETFROM:+1030
TZOFFSETTO:+0930
TZNAME:ACST
DTSTART:20250405T163000
END:STANDARD
BEGIN:DAYLIGHT
TZOFFSETFROM:+0930
TZOFFSETTO:+1030
TZNAME:ACDT
DTSTART:20251004T163000
END:DAYLIGHT
BEGIN:STANDARD
TZOFFSETFROM:+1030
TZOFFSETTO:+0930
TZNAME:ACST
DTSTART:20260404T163000
END:STANDARD
BEGIN:DAYLIGHT
TZOFFSETFROM:+0930
TZOFFSETTO:+1030
TZNAME:ACDT
DTSTART:20261003T163000
END:DAYLIGHT
END:VTIMEZONE
BEGIN:VEVENT
DTSTART;TZID=Australia/Adelaide:20251119T120000
DTEND;TZID=Australia/Adelaide:20251119T160000
DTSTAMP:20260423T000659
CREATED:20241128T053639Z
LAST-MODIFIED:20251030T041504Z
UID:10003170-1763553600-1763568000@lesnw.edu.au
SUMMARY:LILLC Combined
DESCRIPTION:Location: LESNW Regional Office\nAudience: Early Years\, Primary\, and Secondary Leaders in Lutheran Learning Communities \nEvent flyer (PDF) \nDeepen your knowledge and understanding about networks and relationships that can help you live the mission and vision of your learning community. \nRegistrations for this event close on Wednesday 12 November 2025. \n  \n\n 
URL:https://lesnw.edu.au/event/2025-lillc-combined-t4/
LOCATION:LESNW Meeting Room 1\, LESNW Meeting Room 1\, 137 Archer Street\, North Adelaide\, 5006
CATEGORIES:Early Years,LILLC,Primary,Secondary
END:VEVENT
END:VCALENDAR