BEGIN:VCALENDAR
VERSION:2.0
PRODID:-//Lutheran Education - ECPv6.15.20//NONSGML v1.0//EN
CALSCALE:GREGORIAN
METHOD:PUBLISH
X-WR-CALNAME:Lutheran Education
X-ORIGINAL-URL:https://lesnw.edu.au
X-WR-CALDESC:Events for Lutheran Education
REFRESH-INTERVAL;VALUE=DURATION:PT1H
X-Robots-Tag:noindex
X-PUBLISHED-TTL:PT1H
BEGIN:VTIMEZONE
TZID:Australia/Adelaide
BEGIN:STANDARD
TZOFFSETFROM:+1030
TZOFFSETTO:+0930
TZNAME:ACST
DTSTART:20250405T163000
END:STANDARD
BEGIN:DAYLIGHT
TZOFFSETFROM:+0930
TZOFFSETTO:+1030
TZNAME:ACDT
DTSTART:20251004T163000
END:DAYLIGHT
BEGIN:STANDARD
TZOFFSETFROM:+1030
TZOFFSETTO:+0930
TZNAME:ACST
DTSTART:20260404T163000
END:STANDARD
BEGIN:DAYLIGHT
TZOFFSETFROM:+0930
TZOFFSETTO:+1030
TZNAME:ACDT
DTSTART:20261003T163000
END:DAYLIGHT
BEGIN:STANDARD
TZOFFSETFROM:+1030
TZOFFSETTO:+0930
TZNAME:ACST
DTSTART:20270403T163000
END:STANDARD
BEGIN:DAYLIGHT
TZOFFSETFROM:+0930
TZOFFSETTO:+1030
TZNAME:ACDT
DTSTART:20271002T163000
END:DAYLIGHT
END:VTIMEZONE
BEGIN:VEVENT
DTSTART;TZID=Australia/Adelaide:20261001T120000
DTEND;TZID=Australia/Adelaide:20261001T133000
DTSTAMP:20260422T224248
CREATED:20260324T232503Z
LAST-MODIFIED:20260324T232503Z
UID:10003290-1790856000-1790861400@lesnw.edu.au
SUMMARY:Content planning toolkit – moving from reactive to strategic
DESCRIPTION:Location: Online (Microsoft Teams)\nAudience: Leaders\, marketers and admissions team members who want to bring greater structure and intention to their content planning\nFacilitated by: Our partners at imageseven \nSchool marketers are rarely short of content opportunities. The challenge is deciding what matters most — and planning in a way that supports your school’s broader marketing and enrolment goals. \nThis practical session is designed for school marketers who want to bring greater structure and intention to their content planning. Grounded in the realities of school life\, it explores how simple planning tools can help move your content approach from reactive and ad hoc to more strategic and purposeful. \nTogether\, we’ll explore practical frameworks that support clearer messaging\, stronger storytelling and more consistent communication across channels. You’ll gain practical insight into how planning tools\, messaging foundations and content building blocks can work together to support a more sustainable content approach. \nIf you’re looking for ways to bring more clarity and consistency to your school’s content planning\, this session will give you a practical place to start. \nRegistrations for this event close at 5.00pm on Thursday 24 September. Participants will receive an email with the Teams link following the close of registrations.
URL:https://lesnw.edu.au/event/2026-content-planning-toolkit/
LOCATION:Microsoft Teams Meeting\, Microsoft Teams Meeting
CATEGORIES:Marketing Support
ATTACH;FMTTYPE=image/png:https://lesnw.edu.au/wp-content/uploads/2026/03/imageseven-transparent-logo-event-image.png
ORGANIZER;CN="Lutheran Education SA%2C NT & WA":MAILTO:office@lesnw.edu.au
END:VEVENT
END:VCALENDAR