BEGIN:VCALENDAR
VERSION:2.0
PRODID:-//Lutheran Education - ECPv6.15.20//NONSGML v1.0//EN
CALSCALE:GREGORIAN
METHOD:PUBLISH
X-ORIGINAL-URL:https://lesnw.edu.au
X-WR-CALDESC:Events for Lutheran Education
REFRESH-INTERVAL;VALUE=DURATION:PT1H
X-Robots-Tag:noindex
X-PUBLISHED-TTL:PT1H
BEGIN:VTIMEZONE
TZID:Australia/Adelaide
BEGIN:STANDARD
TZOFFSETFROM:+1030
TZOFFSETTO:+0930
TZNAME:ACST
DTSTART:20240406T163000
END:STANDARD
BEGIN:DAYLIGHT
TZOFFSETFROM:+0930
TZOFFSETTO:+1030
TZNAME:ACDT
DTSTART:20241005T163000
END:DAYLIGHT
BEGIN:STANDARD
TZOFFSETFROM:+1030
TZOFFSETTO:+0930
TZNAME:ACST
DTSTART:20250405T163000
END:STANDARD
BEGIN:DAYLIGHT
TZOFFSETFROM:+0930
TZOFFSETTO:+1030
TZNAME:ACDT
DTSTART:20251004T163000
END:DAYLIGHT
BEGIN:STANDARD
TZOFFSETFROM:+1030
TZOFFSETTO:+0930
TZNAME:ACST
DTSTART:20260404T163000
END:STANDARD
BEGIN:DAYLIGHT
TZOFFSETFROM:+0930
TZOFFSETTO:+1030
TZNAME:ACDT
DTSTART:20261003T163000
END:DAYLIGHT
END:VTIMEZONE
BEGIN:VEVENT
DTSTART;TZID=Australia/Adelaide:20251110T083000
DTEND;TZID=Australia/Adelaide:20251110T163000
DTSTAMP:20260422T014508
CREATED:20250618T040915Z
LAST-MODIFIED:20251024T060850Z
UID:10003186-1762763400-1762792200@lesnw.edu.au
SUMMARY:Designing Learning Ecosystems: Bringing School Vision to Life Through Compassionate Systems
DESCRIPTION:Location: LESNW Regional Office\, North Adelaide\nAudience: Educators\, teachers\, school leaders\, (ELC-Year 12) Teams welcome to register\nCost: $250 per person\nFacilitator: Jane Drake\, Managing Director of Community Development\, Center for Systems Awareness \nEvent Flyer (PDF) \nRegistrations for this event close Friday 24 October. Learning communities will be invoiced following the close of registrations.
URL:https://lesnw.edu.au/event/2025-designing-learning-ecosystems-bringing-school-vision-to-life-through-compassionate-systems/
LOCATION:LESNW Regional Office\, LESNW Regional Office\, 137 Archer Street\, North Adelaide\, 5006
CATEGORIES:Compassionate Systems,Professional Development
ORGANIZER;CN="Lutheran Education SA%2C NT & WA":MAILTO:office@lesnw.edu.au
END:VEVENT
END:VCALENDAR