BEGIN:VCALENDAR
VERSION:2.0
PRODID:-//Lutheran Education - ECPv6.15.20//NONSGML v1.0//EN
CALSCALE:GREGORIAN
METHOD:PUBLISH
X-WR-CALNAME:Lutheran Education
X-ORIGINAL-URL:https://lesnw.edu.au
X-WR-CALDESC:Events for Lutheran Education
REFRESH-INTERVAL;VALUE=DURATION:PT1H
X-Robots-Tag:noindex
X-PUBLISHED-TTL:PT1H
BEGIN:VTIMEZONE
TZID:Australia/Adelaide
BEGIN:STANDARD
TZOFFSETFROM:+1030
TZOFFSETTO:+0930
TZNAME:ACST
DTSTART:20240406T163000
END:STANDARD
BEGIN:DAYLIGHT
TZOFFSETFROM:+0930
TZOFFSETTO:+1030
TZNAME:ACDT
DTSTART:20241005T163000
END:DAYLIGHT
BEGIN:STANDARD
TZOFFSETFROM:+1030
TZOFFSETTO:+0930
TZNAME:ACST
DTSTART:20250405T163000
END:STANDARD
BEGIN:DAYLIGHT
TZOFFSETFROM:+0930
TZOFFSETTO:+1030
TZNAME:ACDT
DTSTART:20251004T163000
END:DAYLIGHT
BEGIN:STANDARD
TZOFFSETFROM:+1030
TZOFFSETTO:+0930
TZNAME:ACST
DTSTART:20260404T163000
END:STANDARD
BEGIN:DAYLIGHT
TZOFFSETFROM:+0930
TZOFFSETTO:+1030
TZNAME:ACDT
DTSTART:20261003T163000
END:DAYLIGHT
END:VTIMEZONE
BEGIN:VEVENT
DTSTART;TZID=Australia/Adelaide:20250912T083000
DTEND;TZID=Australia/Adelaide:20250912T160000
DTSTAMP:20260422T043459
CREATED:20241121T053049Z
LAST-MODIFIED:20250905T014516Z
UID:10003137-1757665800-1757692800@lesnw.edu.au
SUMMARY:Leadership Learning Lab 1.0 (Day 4)
DESCRIPTION:Location: LESNW Regional Office \nDay 1 | Monday 12 May\nDay 2 | Friday 13 June\nDay 3 | Thursday 7 August\nDay 4 | Friday 12 September
URL:https://lesnw.edu.au/event/2025-leadership-learning-lab-1-day-4/
LOCATION:LESNW Meeting Room 1\, LESNW Meeting Room 1\, 137 Archer Street\, North Adelaide\, 5006
CATEGORIES:Compassionate Systems,Learning Lab
ORGANIZER;CN="Lutheran Education SA%2C NT & WA":MAILTO:office@lesnw.edu.au
END:VEVENT
END:VCALENDAR