BEGIN:VCALENDAR
VERSION:2.0
PRODID:-//Lutheran Education - ECPv6.15.20//NONSGML v1.0//EN
CALSCALE:GREGORIAN
METHOD:PUBLISH
X-ORIGINAL-URL:https://lesnw.edu.au
X-WR-CALDESC:Events for Lutheran Education
REFRESH-INTERVAL;VALUE=DURATION:PT1H
X-Robots-Tag:noindex
X-PUBLISHED-TTL:PT1H
BEGIN:VTIMEZONE
TZID:Australia/Adelaide
BEGIN:STANDARD
TZOFFSETFROM:+1030
TZOFFSETTO:+0930
TZNAME:ACST
DTSTART:20240406T163000
END:STANDARD
BEGIN:DAYLIGHT
TZOFFSETFROM:+0930
TZOFFSETTO:+1030
TZNAME:ACDT
DTSTART:20241005T163000
END:DAYLIGHT
BEGIN:STANDARD
TZOFFSETFROM:+1030
TZOFFSETTO:+0930
TZNAME:ACST
DTSTART:20250405T163000
END:STANDARD
BEGIN:DAYLIGHT
TZOFFSETFROM:+0930
TZOFFSETTO:+1030
TZNAME:ACDT
DTSTART:20251004T163000
END:DAYLIGHT
BEGIN:STANDARD
TZOFFSETFROM:+1030
TZOFFSETTO:+0930
TZNAME:ACST
DTSTART:20260404T163000
END:STANDARD
BEGIN:DAYLIGHT
TZOFFSETFROM:+0930
TZOFFSETTO:+1030
TZNAME:ACDT
DTSTART:20261003T163000
END:DAYLIGHT
END:VTIMEZONE
BEGIN:VEVENT
DTSTART;TZID=Australia/Adelaide:20250815T083000
DTEND;TZID=Australia/Adelaide:20250815T160000
DTSTAMP:20260422T055624
CREATED:20241121T050930Z
LAST-MODIFIED:20250131T090622Z
UID:10003133-1755246600-1755273600@lesnw.edu.au
SUMMARY:Compassionate Systems Deepening Practice (Day 4)
DESCRIPTION:Location: LESNW Regional Office \nDay 1 | Wednesday 19 February\nDay 2 | Thursday 3 April\nDay 3 | Friday 16 May\nDay 4 | Friday 15 August \nRegister for the above days here.
URL:https://lesnw.edu.au/event/2025-compassionate-systems-deepening-practice-day-4/
LOCATION:LESNW Meeting Room 1\, LESNW Meeting Room 1\, 137 Archer Street\, North Adelaide\, 5006
CATEGORIES:Compassionate Systems
ORGANIZER;CN="Lutheran Education SA%2C NT & WA":MAILTO:office@lesnw.edu.au
END:VEVENT
END:VCALENDAR