BEGIN:VCALENDAR
VERSION:2.0
PRODID:-//Lutheran Education - ECPv6.15.20//NONSGML v1.0//EN
CALSCALE:GREGORIAN
METHOD:PUBLISH
X-ORIGINAL-URL:https://lesnw.edu.au
X-WR-CALDESC:Events for Lutheran Education
REFRESH-INTERVAL;VALUE=DURATION:PT1H
X-Robots-Tag:noindex
X-PUBLISHED-TTL:PT1H
BEGIN:VTIMEZONE
TZID:Australia/Adelaide
BEGIN:STANDARD
TZOFFSETFROM:+1030
TZOFFSETTO:+0930
TZNAME:ACST
DTSTART:20240406T163000
END:STANDARD
BEGIN:DAYLIGHT
TZOFFSETFROM:+0930
TZOFFSETTO:+1030
TZNAME:ACDT
DTSTART:20241005T163000
END:DAYLIGHT
BEGIN:STANDARD
TZOFFSETFROM:+1030
TZOFFSETTO:+0930
TZNAME:ACST
DTSTART:20250405T163000
END:STANDARD
BEGIN:DAYLIGHT
TZOFFSETFROM:+0930
TZOFFSETTO:+1030
TZNAME:ACDT
DTSTART:20251004T163000
END:DAYLIGHT
BEGIN:STANDARD
TZOFFSETFROM:+1030
TZOFFSETTO:+0930
TZNAME:ACST
DTSTART:20260404T163000
END:STANDARD
BEGIN:DAYLIGHT
TZOFFSETFROM:+0930
TZOFFSETTO:+1030
TZNAME:ACDT
DTSTART:20261003T163000
END:DAYLIGHT
END:VTIMEZONE
BEGIN:VEVENT
DTSTART;TZID=Australia/Adelaide:20250210T154500
DTEND;TZID=Australia/Adelaide:20250210T163000
DTSTAMP:20260422T184645
CREATED:20241017T043006Z
LAST-MODIFIED:20241126T033218Z
UID:10003106-1739202300-1739205000@lesnw.edu.au
SUMMARY:Christian Studies Induction: New Christian Studies Leaders
DESCRIPTION:Location: Online (Microsoft Teams) \nOrientation to the Christian Studies Curriculum Framework and Accreditation requirements. \nRegistrations close Monday 3 February. Participants will receive a link to join the Teams meeting the week prior.
URL:https://lesnw.edu.au/event/2025-christian-studies-induction-new-christian-studies-leaders/
LOCATION:Microsoft Teams Meeting\, Microsoft Teams Meeting
CATEGORIES:Christian Studies,Christian Studies Induction,CS Leaders,Online,Professional Development
ORGANIZER;CN="Lutheran Education SA%2C NT & WA":MAILTO:office@lesnw.edu.au
END:VEVENT
BEGIN:VEVENT
DTSTART;TZID=Australia/Adelaide:20250213T154500
DTEND;TZID=Australia/Adelaide:20250213T163000
DTSTAMP:20260422T184645
CREATED:20241017T064010Z
LAST-MODIFIED:20241119T060632Z
UID:10003107-1739461500-1739464200@lesnw.edu.au
SUMMARY:Christian Studies Induction: New Christian Studies Leaders
DESCRIPTION:Location: Online (Microsoft Teams) \nOrientation to the Christian Studies Curriculum Framework and Accreditation requirements. \nRegistrations close Monday 3 February. Participants will receive a link to join the Teams meeting the week prior.
URL:https://lesnw.edu.au/event/2025-christian-studies-induction-new-christian-studies-leaders-2/
LOCATION:Microsoft Teams Meeting\, Microsoft Teams Meeting
CATEGORIES:Christian Studies,Christian Studies Induction,CS Leaders,Online
ORGANIZER;CN="Lutheran Education SA%2C NT & WA":MAILTO:office@lesnw.edu.au
END:VEVENT
BEGIN:VEVENT
DTSTART;TZID=Australia/Adelaide:20250217T154500
DTEND;TZID=Australia/Adelaide:20250217T163000
DTSTAMP:20260422T184645
CREATED:20241118T234642Z
LAST-MODIFIED:20241126T033259Z
UID:10003109-1739807100-1739809800@lesnw.edu.au
SUMMARY:Christian Studies Induction: New Christian Studies Teachers
DESCRIPTION:Location: Online (Microsoft Teams) \nOrientation to the Christian Studies Curriculum Framework and Accreditation requirements. \nRegistrations close Monday 10 February. Participants will receive a link to join the Teams meeting the week prior.
URL:https://lesnw.edu.au/event/2025-christian-studies-induction-new-christian-studies-teachers/
LOCATION:Microsoft Teams Meeting\, Microsoft Teams Meeting
CATEGORIES:Christian Studies,Christian Studies Induction,Online,Professional Development
ORGANIZER;CN="Lutheran Education SA%2C NT & WA":MAILTO:office@lesnw.edu.au
END:VEVENT
BEGIN:VEVENT
DTSTART;TZID=Australia/Adelaide:20250220T154500
DTEND;TZID=Australia/Adelaide:20250220T163000
DTSTAMP:20260422T184645
CREATED:20241118T234825Z
LAST-MODIFIED:20241126T033251Z
UID:10002742-1740066300-1740069000@lesnw.edu.au
SUMMARY:Christian Studies Induction: New Christian Studies Teachers
DESCRIPTION:Location: Online (Microsoft Teams) \nOrientation to the Christian Studies Curriculum Framework and Accreditation requirements. \nRegistrations close Monday 10 February. Participants will receive a link to join the Teams meeting the week prior.
URL:https://lesnw.edu.au/event/2025-christian-studies-induction-new-christian-studies-teachers-2/
LOCATION:Microsoft Teams Meeting\, Microsoft Teams Meeting
CATEGORIES:Christian Studies,Christian Studies Induction,Online,Professional Development
ORGANIZER;CN="Lutheran Education SA%2C NT & WA":MAILTO:office@lesnw.edu.au
END:VEVENT
BEGIN:VEVENT
DTSTART;TZID=Australia/Adelaide:20250224T154500
DTEND;TZID=Australia/Adelaide:20250224T163000
DTSTAMP:20260422T184645
CREATED:20241119T060231Z
LAST-MODIFIED:20241126T033241Z
UID:10002758-1740411900-1740414600@lesnw.edu.au
SUMMARY:Christian Studies Induction: New Christian Studies Teachers
DESCRIPTION:Location: Online (Microsoft Teams) \nOrientation to the Christian Studies Curriculum Framework and the pathway for LCA and LEA Accreditation. \nRegistrations close Monday 17 February. Participants will receive a link to join the Teams meeting the week prior.
URL:https://lesnw.edu.au/event/2025-christian-studies-induction-new-christian-studies-teachers-3/
LOCATION:Microsoft Teams Meeting\, Microsoft Teams Meeting
CATEGORIES:Christian Studies,Christian Studies Induction,Online,Professional Development
ORGANIZER;CN="Lutheran Education SA%2C NT & WA":MAILTO:office@lesnw.edu.au
END:VEVENT
END:VCALENDAR